BEGIN:VCALENDAR
VERSION:2.0
PRODID:-//wp-events-plugin.com//6.0.1.1//EN
BEGIN:VEVENT
UID:7aa8d315-c457-4e19-b4cd-8b8a481acd9d
DTSTART:20260513T000000Z
DTEND:20260515T000000Z
DTSTAMP:20260313T234515Z
SUMMARY:51st LISBON World Conference on Artificial Intelligence\, Energy &amp\; Manufacturing Engineering (AIEME-26) May 13-15\, 2026 Lisbon (Portugal)
DESCRIPTION:ENGINEERING\, TECHNOLOGY\, AI\, Automobile\, Bioinformatics\, Biomedical\, Chemical\, Computer\, Computing\, Electrical\, Energy\, Image Processing\, IT\, Manufacturing\, Mechanical\, Metallurgical\, Military\, Mining\, Nanotechnology\, Aviation
LOCATION:Lisbon\, Faculdade de Ciências Sociais e Humanas – NOVA FCSH\, Lisbon\, Portugal\, 1069-061\, Portugal
URL:https://eventstopten.com/events/51st-lisbon-world-conference-on-artificial-intelligence-energy-manufacturing-engineering-aieme-26-may-13-15-2026-lisbon-portugal/
END:VEVENT
END:VCALENDAR