BEGIN:VCALENDAR
VERSION:2.0
PRODID:-//wp-events-plugin.com//6.0.1.1//EN
BEGIN:VEVENT
UID:6a94f29e-cb57-4625-9197-6075809fc028
DTSTART:20260427T000000Z
DTEND:20260429T000000Z
DTSTAMP:20260313T091606Z
SUMMARY:51st HELSINKI World Conference on Sustainable Agriculture\, Biodiversity &amp\; Public Health (SABPH-26) April 27-30\, 2026 Helsinki (Finland)
DESCRIPTION:Topics of interest for submission include any topics related to:\n\nNutrition and Food Security\nAgrobiodiversity for Dietary Diversity: Promoting the cultivation and consumption of a wide variety of crops\, traditional\, and indigenous food species (agrobiodiversity) to ensure a wider range of essential vitamins and minerals in the human diet\, combating malnutrition.\n\nNutrient Density in Food: Investigating how sustainable farming practices (like soil health management) affect the nutritional content and quality of food crops\, potentially leading to more nutrient-dense food.\n\nFood Security and Resilience: The role of diverse\, climate-resilient crop and livestock varieties in ensuring a stable food supply\, especially in the face of climate change\, pests\, and diseases\, which directly impacts public health outcomes like hunger and poverty.\n\nSustainable Healthy Diets: Developing dietary guidelines that are not only beneficial for human health (e.g.\, lower risk of Non-Communicable Diseases like heart disease) but are also environmentally sustainable and promote biodiversity (e.g.\, plant-based diets with animal products from low-impact systems).\n\nEnvironmental Health and Safety\nPesticide and Chemical Residues: The reduction of chemical inputs (pesticides\, herbicides\, synthetic fertilizers) through sustainable methods like Integrated Pest Management (IPM) and organic farming. This directly reduces the risk of chemical exposure for farm workers and consumers\, safeguarding public health.\n\nWater and Soil Quality: Sustainable agriculture practices (e.g.\, cover cropping\, reduced tillage) that enhance soil health\, prevent erosion\, and reduce nutrient and chemical runoff into water sources. This protects both aquatic biodiversity and human health by ensuring cleaner drinking water.\n\nAntibiotic Resistance: Investigating the link between the overuse of antibiotics in industrial livestock production and the rise of antibiotic-resistant pathogens\, which poses a global threat to public health. Sustainable livestock management and reducing the need for routine antibiotics are key.\n\nEcosystem Services for Pest and Disease Control: Using natural biological control provided by diverse ecosystems (predatory insects\, healthy soil microorganisms) to manage crop pests\, reducing the reliance on chemical treatments.\n\nSustainable Farming Systems and Practices\nAgroecology and Regenerative Agriculture: The study and implementation of farming systems that intentionally leverage ecological processes and biodiversity to improve productivity\, soil fertility\, and resilience (e.g.\, agroforestry\, crop rotation\, intercropping).\n\nPollinator Health: Conserving and restoring habitat for wild and managed pollinators (like bees and butterflies) within agricultural landscapes. Pollinator decline\, often linked to intensive farming and pesticide use\, threatens both biodiversity and the production of diverse\, nutritious crops.\n\nGenetic Resources and Conservation: The ex-situ (seed banks) and in-situ (on-farm) conservation of diverse plant and animal genetic resources\, which are the fundamental biological resources needed for future food system resilience and adaptation to new health threats.\n\nZoonotic Disease Risk: Analyzing how changes in land use\, deforestation\, and the intensification of livestock farming can increase the spillover risk of zoonotic diseases (diseases transmitted from animals to humans)\, and how sustainable practices can create buffers.\n\nSocial\, Economic\, and Policy Connections\nFarmer and Community Livelihoods: The economic viability of sustainable\, biodiversity-friendly farming\, and how it can contribute to stable rural incomes and community health.\n\nPolicy Integration: Developing integrated policies that explicitly connect agriculture\, environment\, and health sectors\, moving away from "siloed" approaches that address these issues separately.\n\nConsumer-Producer Linkages: Creating direct market relationships (farmers' markets\, Community Supported Agriculture) that increase transparency\, reward farmers for sustainable\, biodiversity-positive practices\, and provide consumers with access to local\, diverse\, and healthy foods.
LOCATION:Helsinki\, Helsinki\, Helsinki\, Finland\, 34280m\, Finland
URL:https://eventstopten.com/events/51st-helsinki-world-conference-on-sustainable-agriculture-biodiversity-public-health-sabph-26-april-27-30-2026-helsinki-finland/
END:VEVENT
END:VCALENDAR