BEGIN:VCALENDAR
VERSION:2.0
PRODID:-//wp-events-plugin.com//6.0.1.1//EN
BEGIN:VEVENT
UID:0fee3c6e-b24a-46d1-a003-becb1febd193
DTSTART:20260427T000000Z
DTEND:20260429T000000Z
DTSTAMP:20260313T101517Z
SUMMARY:50th HELSINKI International Conference on Emerging Technologies (HICET-26) April 27-29\, 2026 Helsinki (Finland)
DESCRIPTION:Topics of interest for submission include any topics related to:\n\nComputing and Digital Intelligence\nThis category focuses on technologies that enhance processing power\, automation\, and decision-making.\n\nArtificial Intelligence (AI) and Machine Learning (ML):\n\nGenerative AI: Models capable of creating new content (text\, images\, code\, synthetic data).\n\nAgentic AI: Autonomous AI systems that can make decisions and take actions beyond simple query-response.\n\nAI in Cybersecurity: Using AI to predict\, prevent\, and respond to cyber threats.\n\nAI-Augmented Development (AI in Coding): Tools that help developers write\, debug\, and optimize code faster.\n\nNatural Language Processing (NLP) and Computer Vision.\n\nQuantum Technologies:\n\nQuantum Computing: Leveraging quantum mechanics for complex\, high-speed computations that are impossible for classical computers.\n\nQuantum Cryptography and Post-Quantum Cryptography: Developing secure communication methods to withstand quantum attacks.\n\nQuantum Sensors: Devices that use quantum phenomena for ultra-precise measurements.\n\nAdvanced Computing Architectures:\n\nNeuromorphic Computing: Hardware that mimics the neural structure of the human brain for more efficient processing.\n\nEdge Computing: Processing data closer to the source (the "edge" of the network) to reduce latency\, crucial for IoT and autonomous systems.\n\nHybrid Computing: Combining various processing units (CPU\, GPU\, quantum\, etc.) to solve complex problems.\n\nHigh-Performance Computing (HPC) and Exascale Computing.\n\nConnectivity and Digital Infrastructure\nThese topics relate to the foundation that enables fast\, ubiquitous\, and secure digital interaction.\n\nConnectivity Networks:\n\n5G and Beyond (e.g.\, 6G): Next-generation cellular networks offering ultra-fast speeds and extremely low latency\, enabling massive machine-to-machine communication.\n\nLow Earth Orbit (LEO) Satellites: Expanding internet access to remote and underserved areas globally.\n\nLi-Fi: Wireless optical networking technology that uses light for data transmission.\n\nDistributed Ledger and Trust:\n\nBlockchain Beyond Cryptocurrency: Applying the distributed ledger technology for secure supply chain management\, digital identity\, voting systems\, and decentralized applications (dApps).\n\nWeb3: Concepts centered around decentralized internet applications and ownership.\n\nInternet of Things (IoT):\n\nThe network of physical objects ("things") embedded with sensors\, software\, and other technologies to connect and exchange data with other devices and systems over the internet.\n\nSmart Cities and Ambient Invisible Intelligence: Using sensor data and AI to manage urban infrastructure and create adaptive\, intelligent environments.\n\nCloud Computing and Infrastructure:\n\nCloud-Native Infrastructure: Applications designed to run on the cloud for scalability and security.\n\nServerless Computing and Microservices Architectures.\n\nRobotics\, Automation\, and Extended Reality\nFocusing on the convergence of the digital and physical worlds.\n\nRobotics and Autonomous Systems:\n\nAdvanced Robotics: Robots integrated with AI to perform intricate tasks and interact autonomously in various industries (manufacturing\, healthcare\, service).\n\nAutonomous Vehicles and Delivery Drones: Self-driving systems for transportation and logistics.\n\nRobotic Process Automation (RPA): Software robots automating repetitive\, rule-based business processes.\n\nExtended Reality (XR):\n\nVirtual Reality (VR): Fully immersive digital environments (e.g.\, for training\, education\, and gaming).\n\nAugmented Reality (AR): Overlaying digital information onto the real world (e.g.\, AR smart glasses\, retail).\n\nMixed Reality (MR): The merging of real and virtual worlds to produce new environments and visualizations.\n\nMetaverse and Spatial Computing: The shift toward persistent\, shared\, real-time 3D virtual worlds.\n\nDigital Twins: Virtual replicas of physical assets\, processes\, or systems used for simulation\, performance analysis\, and predictive maintenance.\n\nBiotechnology and Sustainable Tech\nInnovations driving health\, food security\, and environmental sustainability.\n\nBiotechnology and Genomics:\n\nGene Editing (e.g.\, CRISPR): Precise methods for modifying genetic material to treat diseases\, develop new drugs\, or improve crops.\n\nPersonalized/Precision Medicine: Treatments tailored to an individual's unique genetic profile and lifestyle.\n\nSynthetic Biology: Engineering biological systems to create new functions not found in nature (e.g.\, to produce materials\, chemicals\, or drugs).\n\nEngineered Living Therapeutics and Cancer Vaccines.\n\nSustainable and Green Technologies (Clean Tech):\n\nGreen Energy Technologies: Advancements in solar\, wind\, geothermal\, and Advanced Nuclear Technologies (like Small Modular Reactors or SMRs).\n\nEnergy Storage Solutions: Improved batteries (e.g.\, structural battery composites) and large-scale storage (e.g.\, osmotic power systems).\n\nGreen Nitrogen Fixation: Sustainable methods for producing fertilizer.\n\nCarbon Capture and Utilization: Technologies for capturing CO2 from the atmosphere or industrial sources.\n\nAgritech and Food Technology:\n\nPrecision Agriculture: Using IoT\, AI\, and drones to optimize crop yields and resource use.\n\nCultured Meat (Lab-Grown Meat): Producing animal protein without slaughtering animals.\n\nAdvanced Materials and Manufacturing\nNew frontiers in engineering and production.\n\nNanotechnology: The manipulation of matter on an atomic and molecular scale\, with applications in medicine\, materials science\, and electronics (e.g.\, nanozymes\, carbon nanotube transistors).\n\nAdvanced Manufacturing:\n\n3D Printing (Additive Manufacturing): Revolutionizing prototyping and production across multiple industries\, including construction and personalized medicine.\n\nNew Materials: Developing materials with novel properties\, such as self-healing composites and advanced material science for energy and electronics.\n\nImplantable Microchips and Wearable Health Monitors: Devices for continuous\, real-time health monitoring and data collection.
LOCATION:Helsinki\, Helsinki\, Helsinki\, Finland\, 01510\, Finland
URL:https://eventstopten.com/events/50th-helsinki-international-conference-on-emerging-technologies-hicet-26-april-27-29-2026-helsinki-finland/
END:VEVENT
END:VCALENDAR