BEGIN:VCALENDAR
VERSION:2.0
PRODID:-//wp-events-plugin.com//6.0.1.1//EN
BEGIN:VEVENT
UID:38856cea-7f32-491a-b66c-e093c22a2e11
DTSTART;VALUE=DATE:20260824
DTEND;VALUE=DATE:20260826
DTSTAMP:20260313T101603Z
SUMMARY:4th International Summit on Non-Renewable and Renewable Energy (ISNRE2026)
DESCRIPTION:The 4th International Summit on Non-Renewable and Renewable Energy (ISNRE2026) will be held on August 24–25\, 2026 in Venice\, Italy. This global event brings together leading researchers\, industry experts\, policymakers\, and innovators to discuss advancements in renewable technologies\, energy transition strategies\, smart grids\, storage solutions\, and sustainability pathways. ISNRE2026 offers plenary talks\, keynote sessions\, technical presentations\, and exceptional networking opportunities for professionals across the energy sector.
LOCATION:Venice\, Italy\, Venice\, Italy\, Venice\, Italy\, 30100\, Europe\, Italy
URL:https://eventstopten.com/events/4th-international-summit-on-non-renewable-and-renewable-energy-isnre2026/
END:VEVENT
END:VCALENDAR