BEGIN:VCALENDAR
VERSION:2.0
PRODID:-//wp-events-plugin.com//6.0.1.1//EN
BEGIN:VEVENT
UID:6a32a902-f743-4fe3-b335-2e4e7cfb8164
DTSTART:20260914T100000Z
DTEND:20260915T180000Z
DTSTAMP:20260314T133029Z
SUMMARY:4th International Summit on Earthscience\, Civil and Environmental Engineering
DESCRIPTION:Civil Engineering Conference\, Environmental Engineering Summit\, Earth Science Conference 2026\, Resilient Infrastructure\, Sustainable Materials\, Low-Carbon Construction\, Geospatial Intelligence\, AI in Civil Engineering\, Geohazards\, Climate-Neutral Cities\, Water Management\, Berlin Conference\, CPD Accreditation\, Spectrum Conferences\, Environmental Engineering conferences\, ISECEE2026\, Earth Science Conferences\, Earth Science Conferences 2026\, Berlin Event\, Events in Germany\, Conferences in Germany
LOCATION:Berlin\, Germany\, Berlin\, Germany\, Berlin\, Berlin\, 10115\, Germany
URL:https://eventstopten.com/events/4th-international-summit-on-earthscience-civil-and-environmental-engineering/
END:VEVENT
END:VCALENDAR