BEGIN:VCALENDAR
VERSION:2.0
PRODID:-//wp-events-plugin.com//6.0.1.1//EN
BEGIN:VEVENT
UID:d252c31f-f497-4aea-b3b5-31d2f1a020f6
DTSTART:20261015T080000Z
DTEND:20261016T170000Z
DTSTAMP:20260420T160047Z
SUMMARY:4th International Conference on Neurology &amp\; Neurological Disorders
DESCRIPTION:ScitechSeries cordially invites you to participate in the esteemed "4th International Conference on Neurology &amp\; Neurological Disorders\," a Hybrid Event set to unfold in Paris\, France from October 15-16\, 2026. This innovative Hybrid format allows for your engagement\, whether in person in the vibrant city of Paris or virtually from the convenience of your home or workplace.\n\nThe conference revolves around the central theme\, "Integrating Science and Innovation to Transform Neurological Care\," with the objective of cultivating discussions and knowledge exchange on the latest advancements and inventive approaches in the realm of neurology.\n\nNeurology\, being a critical field in healthcare\, plays a pivotal role in shaping current industry standards and future prospects. The conference annually brings together industry leaders\, regulatory authorities\, and academia to curate a comprehensive program covering both traditional and cutting-edge topics\, technologies\, and applications. The 4th International Conference on Neurology &amp\; Neurological Disorders in 2026 promises to facilitate meaningful dialogue between seasoned professionals and the emerging generation of leaders in neurology\, thus charting the course for a healthier future in the sector.
LOCATION:Paris\, France\, Paris\, France and Online\, Paris\, Paris\, 75001\, Paris\, France
URL:https://eventstopten.com/events/4th-international-conference-on-neurology-neurological-disorders/
END:VEVENT
END:VCALENDAR