BEGIN:VCALENDAR
VERSION:2.0
PRODID:-//wp-events-plugin.com//6.0.1.1//EN
BEGIN:VEVENT
UID:484bff54-c81e-43de-8d88-f8827f272a45
DTSTART;VALUE=DATE:20261016
DTEND;VALUE=DATE:20261019
DTSTAMP:20260313T083016Z
SUMMARY:4th International Conference on Machine Learning and Pattern Recognition (MLPR 2026)
DESCRIPTION:The 3rd International Conference on Machine Learning and Pattern Recognition (MLPR 2025) will be held at Denpasar\, Bali Island\, Indonesia during October 16-18\, 2026. MLPR 2026 is co-sponsored by Universitas Gadjah Mada\, Indonesia and University of Udayana\, Indonesia. The conference includes keynote talks\, invited talks\, forums and oral and poster presentations of author papers.
LOCATION:\, \, 
URL:https://eventstopten.com/events/4th-international-conference-on-machine-learning-and-pattern-recognition-mlpr-2026/
END:VEVENT
END:VCALENDAR