BEGIN:VCALENDAR
VERSION:2.0
PRODID:-//wp-events-plugin.com//6.0.1.1//EN
BEGIN:VEVENT
UID:b5d48ed7-605c-43e2-998d-d92ea910f2f0
DTSTART:20260611T060000Z
DTEND:20260612T210000Z
DTSTAMP:20260423T160037Z
SUMMARY:4th International Conference on  COPD and Asthma
DESCRIPTION:We are delighted to invite participants from around the globe to the “4th International Conference on COPD and Asthma”\, taking place on June 11–12\, 2026\, in Rome\, Italy. Centered around the theme “Advancing COPD Care: Stronger Lungs\, Healthier Lives”\, this prestigious event will unite leading experts\, researchers\, healthcare professionals\, and industry representatives to discuss the latest innovations in COPD management and respiratory health.\n\nCOPD Summit 2026 will offer a dynamic and well-rounded program\, featuring keynote sessions\, oral and poster presentations\, exhibitions\, and engaging panel discussions. Attendees will also benefit from interactive workshops designed to encourage hands-on learning and meaningful collaboration. With both in-person and virtual participation options available\, the conference ensures broad accessibility for a truly global audience.
LOCATION:Hybrid\, Rome\, Italy\, Rome\, Italy\, Italy\, 00100\, Italy
URL:https://eventstopten.com/events/4th-international-conference-on-copd-and-asthma/
END:VEVENT
END:VCALENDAR