BEGIN:VCALENDAR
VERSION:2.0
PRODID:-//wp-events-plugin.com//6.0.1.1//EN
BEGIN:VEVENT
UID:d8ee3a0a-a7e0-472c-ade6-ed7b98d53593
DTSTART;VALUE=DATE:20261204
DTEND;VALUE=DATE:20261207
DTSTAMP:20260314T160029Z
SUMMARY:4th Asia Symposium on Image and Graphics (ASIG 2026)
DESCRIPTION:It is with great pleasure that we welcome you to the 4th Asia Symposium on Image and Graphics (ASIG 2026)\, to be held during December 4-6\, 2026 in Kyoto\, Japan. ASIG 2026 is hosted by Ritsumeikan University\, Japan.
LOCATION:Suzaku Campus\, Ritsumeikan University\, Kyoto\, Japan\, 1 Nishinokyo-Suzaku-cho\, Nakagyo-ku\, Kyoto 604-8520\, Kyoto\, Japan\, 604-8520\, Japan
URL:https://eventstopten.com/events/4th-asia-symposium-on-image-and-graphics-asig-2026/
END:VEVENT
END:VCALENDAR