BEGIN:VCALENDAR
VERSION:2.0
PRODID:-//wp-events-plugin.com//6.0.1.1//EN
BEGIN:VEVENT
UID:f1ae94e1-f845-4a5f-a866-9fbe0809666b
DTSTART:20260706T000000Z
DTEND:20260708T000000Z
DTSTAMP:20260314T150033Z
SUMMARY:49th AMSTERDAM International Conference on Business &amp\; Finance Studies (ICBFS-26)
DESCRIPTION:BUSINESS\, ECONOMICS\, Finance\, Business\, E-Commerce\, HR\, Management\, MIS\, Organizational Behaviour\, Marketing
LOCATION:Amsterdam\, Amsterdam\, Amsterdam\, Netherland\, 1171\, Netherlands
URL:https://eventstopten.com/events/49th-amsterdam-international-conference-on-business-finance-studies-icbfs-26/
END:VEVENT
END:VCALENDAR