BEGIN:VCALENDAR
VERSION:2.0
PRODID:-//wp-events-plugin.com//6.0.1.1//EN
BEGIN:VEVENT
UID:fb2a9b15-88cf-4d75-b1bd-5f18efadd298
DTSTART:20261209T000000Z
DTEND:20261211T000000Z
DTSTAMP:20260420T160040Z
SUMMARY:43rd LISBON World Conference on Cybersecurity\, IoT\, and Cloud Solutions (LCICS-26) Dec. 9-11\, 2026 Lisbon (Portugal)
DESCRIPTION:ENGINEERING\, TECHNOLOGY\, AI\, Automobile\, Bioinformatics\, Biomedical\, Chemical\, Computer\, Computing\, Electrical\, Energy\, Image Processing\, IT\, Manufacturing\, Mechanical\, Metallurgical\, Military\, Mining\, Nanotechnology\, Aviation
LOCATION:Lisbon\, Faculdade de Ciências Sociais e Humanas – NOVA FCSH University\, Lisbon\, Portugal\, 1069-061\, Portugal
URL:https://eventstopten.com/events/43rd-lisbon-world-conference-on-cybersecurity-iot-and-cloud-solutions-lcics-26-dec-9-11-2026-lisbon-portugal/
END:VEVENT
END:VCALENDAR