BEGIN:VCALENDAR
VERSION:2.0
PRODID:-//wp-events-plugin.com//6.0.1.1//EN
BEGIN:VEVENT
UID:fec66fac-ed4e-4fbf-b15b-208f46120de8
DTSTART:20261214T000000Z
DTEND:20261216T000000Z
DTSTAMP:20260425T160026Z
SUMMARY:42nd ROME International Congress on Law\, Economic\, Business and Management (LEBM-26) Dec. 14-16\, 2026 Rome (Italy)
DESCRIPTION:BUSINESS\, ECONOMICS\, Finance\, Business\, E-Commerce\, HR\, Management\, MIS\, Organizational Behaviour\, Marketing\, LAW\, Justice\, Legal studies
LOCATION:Rome\, University of Washington Rome Center\, Rome\, Rome\, 00186\, Italy
URL:https://eventstopten.com/events/42nd-rome-international-congress-on-law-economic-business-and-management-lebm-26-dec-14-16-2026-rome-italy/
END:VEVENT
END:VCALENDAR