BEGIN:VCALENDAR
VERSION:2.0
PRODID:-//wp-events-plugin.com//6.0.1.1//EN
BEGIN:VEVENT
UID:cf998265-d199-451d-b6ed-c8ded5d8930a
DTSTART:20261209T000000Z
DTEND:20261211T000000Z
DTSTAMP:20260420T160044Z
SUMMARY:41st LISBON Global Congress on Civil\, Materials\, and Environmental Engineering (LCMEE-26) scheduled on Dec. 9-11\, 2026 Lisbon (Portugal)
DESCRIPTION:ENGINEERING\, TECHNOLOGY\, Artificial Intelligence\, Automobile\, Bioinformatics\, Biomedical Engineering\, Chemical Engineering\, Computer Science &amp\; Engineering\, Computer Networking\, Computing\, Communication Engineering\, Data Mining\, Design\, Electrical Engineering\, Electronics Engineering\, Energy and Renewable Energy\, Image Processing\nIndustrial Engineering\, Information Technology\, Internet and World Wide Web\, Manufacturing\, Mechanical Engineering\, Metallurgical Engineering\, Military\, Mining\, Nanotechnology and Smart Materials\, Polymers and Plastics\, Robotics\, Space Environment and Aviation Technology\, Systems Engineering
LOCATION:Lisbon\, Faculdade de Ciências Sociais e Humanas – NOVA FCSH University\, Lisbon\, Portugal\, 1069-061\, Portugal
URL:https://eventstopten.com/events/41st-lisbon-global-congress-on-civil-materials-and-environmental-engineering-lcmee-26-scheduled-on-dec-9-11-2026-lisbon-portugal/
END:VEVENT
END:VCALENDAR