BEGIN:VCALENDAR
VERSION:2.0
PRODID:-//wp-events-plugin.com//6.0.1.1//EN
BEGIN:VEVENT
UID:0f07ff34-9e0a-4f91-9a02-e560047a6d72
DTSTART:20260601T000000Z
DTEND:20260603T000000Z
DTSTAMP:20260314T041518Z
SUMMARY:41st ISTANBUL International Conference on Research in Science\, Engineering &amp\; Technology (IRSET-26)
DESCRIPTION:ENGINEERING\, TECHNOLOGY\, AI\, Automobile\, Bioinformatics\, Biomedical\, Chemical\, Computer\, Computing\, Electrical\, Energy\, Image Processing\, IT\, Manufacturing\, Mechanical\, Metallurgical\, Military\, Mining\, Nanotechnology\, Aviation
LOCATION:Istanbul\, Holiday Inn Istanbul City\, (5 Star)\, Istanbul\, Turkey\, 34280\, Turkey
URL:https://eventstopten.com/events/41st-istanbul-international-conference-on-research-in-science-engineering-technology-irset-26/
END:VEVENT
END:VCALENDAR