BEGIN:VCALENDAR
VERSION:2.0
PRODID:-//wp-events-plugin.com//6.0.1.1//EN
BEGIN:VEVENT
UID:c7a95bae-a7d6-4089-a942-6fe0c814c7ae
DTSTART:20261209T000000Z
DTEND:20261211T000000Z
DTSTAMP:20260420T160042Z
SUMMARY:40th LISBON International Congress on Chemical\, Biological\, Environmental &amp\; Health Sciences (LCBEHS-26) Dec. 9-11\, 2026 Lisbon (Portugal)
DESCRIPTION:PHYSICAL AND LIFE SCIENCES\, Agriculture\, Aquaculture\, Archaeology\, Astronomy\, Biodiversity\, Biology\, Biotechnology\, Botany\, Chemistry\, Cellular &amp\; Molecular Biology\, Earth Sciences\, Ecology\, Environment\, Food and Nutrition\, Food Engineering\, Forestry\, GIS\, Genetics\, Medical Genetics\, Meteorology\, Microbiology\, Oceanography\, Physics\nSoil\, Waste Management\, Water
LOCATION:Lisbon\, Faculdade de Ciências Sociais e Humanas – NOVA FCSH University\, Lisbon\, Portugal\, 1069-061\, Portugal
URL:https://eventstopten.com/events/40th-lisbon-international-congress-on-chemical-biological-environmental-health-sciences-lcbehs-26-dec-9-11-2026-lisbon-portugal/
END:VEVENT
END:VCALENDAR