BEGIN:VCALENDAR
VERSION:2.0
PRODID:-//wp-events-plugin.com//6.0.1.1//EN
BEGIN:VEVENT
UID:129fa0ca-4c22-46bf-924a-5535690a2df2
DTSTART:20260624T083000Z
DTEND:20260626T180000Z
DTSTAMP:20260420T160046Z
SUMMARY:3rd World Summit and Expo on Renewable and Non-Renewable Energy 2026
DESCRIPTION:3rd World Summit and Expo on Renewable and Non-Renewable Energy WSERNRE-2026 Welcome to the Future of Energy! We are honoured to invite you to the 3rd World Summit and Expo on Renewable and Non Renewable Energy (WSERNRE 2026)\, organized by Scientific Summits\, taking place from June 22–24\, 2026\, in Bern\, Switzerland.\n\nJoin us at the forefront of the global energy landscape. This summit unites leading researchers\, industry innovators\, policymakers\, and environmental advocates to ignite dialogue\, spark innovation\, and explore both renewable and non-renewable energy solutions.\n\nExpect a robust program of keynote addresses\, expert panels\, technical sessions\, interactive workshops\, and an expo showcasing breakthrough technologies. Whether your expertise lies in solar\, wind\, hydro\, fossil fuels\, or nuclear energy\, WSERNRE 2026 is your stage to share insights and co create a balanced\, sustainable energy future.\n\nBern\, with its blend of rich heritage and forward looking sustainability initiatives\, offers the perfect backdrop for this exciting global gathering.\n\nWe look forward to your active participation\, your vision\, and your passion. Together\, let’s power the future.
LOCATION:Bern\, Bern\, Switzerland\, Bern\, Switzerland\, 3001\, Bern\, Switzerland
URL:https://eventstopten.com/events/3rd-world-summit-and-expo-on-renewable-and-non-renewable-energy-2026/
END:VEVENT
END:VCALENDAR