BEGIN:VCALENDAR
VERSION:2.0
PRODID:-//wp-events-plugin.com//6.0.1.1//EN
BEGIN:VEVENT
UID:b1c11a0e-e6f5-4b28-97eb-83081b4d03c7
DTSTART:20261119T090000Z
DTEND:20261121T180000Z
DTSTAMP:20260313T123012Z
SUMMARY:3rd International Social Sciences Conference (ISSCONF)
DESCRIPTION:3rd International Social Sciences Conference 2026\nDates: 19 – 21 November 2026\nLocation: Copenhagen\, Denmark\nWhy Attend the International Social Sciences Conference 2026?\nIf you are passionate about advancing knowledge in the field of social sciences\, the 3rd International Social Sciences Conference (ISSC) 2026 in Copenhagen is an unmissable event. This conference provides a platform to explore cutting-edge research methodologies\, theoretical innovations\, and practical applications shaping the future of the discipline.\nWhat Makes This Conference Stand Out?\n• Enhance Your Expertise\nGain valuable insights from leading experts as they present the latest research and innovative approaches across diverse areas of social sciences.\n\n• Expand Your Global Network\nConnect with fellow researchers\, academics\, and professionals worldwide. Build meaningful relationships that inspire collaborations\, research projects\, and career growth.\n\n&nbsp\;\nImportant Dates\n\n 	Abstract Submission Deadline: 30 October 2026\n 	Early Bird Registration Deadline: 09 April 2026\n 	Early Registration Deadline: 09 July 2026\n 	Late Registration Deadline: 09 November 2026\n
LOCATION:\, \, 
URL:https://eventstopten.com/events/3rd-international-social-sciences-conference-issconf/
END:VEVENT
END:VCALENDAR