BEGIN:VCALENDAR
VERSION:2.0
PRODID:-//wp-events-plugin.com//6.0.1.1//EN
BEGIN:VEVENT
UID:4aca4562-7b8a-4c86-bc27-fc016bfa7660
DTSTART:20261120T090000Z
DTEND:20261122T180000Z
DTSTAMP:20260313T123018Z
SUMMARY:3rd International Management Conference (IMCONF)
DESCRIPTION:Join Us at the 3rd International Management Conference 2026!\nDates: 20 - 22 November 2026\nLocation: Copenhagen\, Denmark\n\nWhy Attend This Conference?\nImmerse yourself in a dynamic environment where management theory meets practice. The 3rd International Management Conference 2026 is your gateway to the latest trends\, strategies\, and innovations in the field of management. Whether you’re a seasoned professional\, a researcher\, or an academic\, this event offers you the chance to learn\, network\, and grow.\n\nWhat’s in Store for You?\n\nExpert-Led Sessions\nStay on the cutting edge with insightful sessions led by thought leaders in management. Dive deep into the latest theories and practical approaches that are shaping the future of the industry.\n\nNetworking Opportunities\nConnect with a diverse group of professionals from across the globe. This is your chance to build meaningful relationships with industry leaders\, researchers\, and fellow professionals\, opening doors to future collaborations.\n\nKey Dates to Remember\nAbstract Submission Deadline: 30 October 2026\nEarly Bird Registration Deadline: 09 April 2026\nEarly Registration Deadline: 09 July 2026\nLate Registration Deadline: 09 November 2026\n\n&nbsp\;\n\n&nbsp\;
LOCATION:\, \, 
URL:https://eventstopten.com/events/3rd-international-management-conference-imconf/
END:VEVENT
END:VCALENDAR