BEGIN:VCALENDAR
VERSION:2.0
PRODID:-//wp-events-plugin.com//6.0.1.1//EN
BEGIN:VEVENT
UID:58006d85-b335-40b5-abe4-a1e9adf6412f
DTSTART:20261005T090000Z
DTEND:20261006T170000Z
DTSTAMP:20260425T080057Z
SUMMARY:3rd International Conference on Virology\, Emerging Diseases and Vaccines
DESCRIPTION:We are pleased to welcome you to the Vaccine 2026 Conference\, scheduled for October 05–06\, 2026\, in Madrid\, Spain. This international gathering will bring together researchers\, clinicians\, public health professionals\, industry leaders\, and policymakers to exchange knowledge and advance progress in vaccine science and immunization.\n\nThe conference will highlight recent developments in vaccine research\, clinical trials\, manufacturing\, regulation\, and global deployment. Through keynote presentations\, scientific sessions\, and focused discussions\, participants will have the opportunity to explore evidence-based solutions to current and emerging challenges in global health.\n\nJoin us for insightful discussions\, meaningful networking opportunities\, and collaborative exchanges that will contribute to the advancement of vaccine science and the future of immunization practices worldwide. \n\nWith regards\,\nConference Organizing Committee\nVaccine 2026 | Madrid\, Spain\n 
LOCATION:Madrid\, Spain\, Madrid\, Spain\, Madrid\, Spain\, 10025\, Spain\, Spain
URL:https://eventstopten.com/events/3rd-international-conference-on-virology-emerging-diseases-and-vaccines/
END:VEVENT
END:VCALENDAR