BEGIN:VCALENDAR
VERSION:2.0
PRODID:-//wp-events-plugin.com//6.0.1.1//EN
BEGIN:VEVENT
UID:a280dbb1-8e10-4400-9c2a-26958e75332c
DTSTART:20261120T090000Z
DTEND:20261122T180000Z
DTSTAMP:20260313T121534Z
SUMMARY:3rd International Academic Conference on  Teaching and Education ( ICTEDUCATION)
DESCRIPTION:3rd International Academic Conference on Teaching and Education (ICTEDUCATION)\nDates: 20 – 22 November 2026\nLocation: Copenhagen\, Denmark\n\nInternational Academic Conference on Teaching and Education 2026\n\nJoin us at the 3rd International Academic Conference on Teaching and Education 2026\, taking place in Copenhagen\, Denmark. This event offers a unique platform for educators\, researchers\, and professionals from around the world to connect\, share insights\, and explore the latest trends in education.\n\nKey Highlights:\n\n 	Global Networking: Connect with international experts and peers\, fostering relationships that can lead to future collaborations and professional growth.\n• Innovative Discussions: Engage in discussions on critical challenges and opportunities in education\, with a focus on policy\, technology\, and effective teaching methods.\n• Expert-Led Sessions: Learn from leading experts in the field\, gaining fresh perspectives on educational innovations.\n• Flexible Participation: Attend in person or join virtually\, ensuring a seamless experience tailored to your preferences.\n• Cultural Experience: Explore the vibrant city of Copenhagen\, renowned for its rich history\, sustainable urban design\, and iconic architecture\, with a guided city tour included in the conference agenda.\n\nImportant Dates:\n\n 	Abstract Submission Deadline: 30 October 2026\n 	Early Bird Registration Deadline: 09 April 2026\n 	Early Registration Deadline: 09 July 2026\n 	Late Registration Deadline: 09 November 2026\n
LOCATION:\, \, 
URL:https://eventstopten.com/events/3rd-international-academic-conference-on-teaching-and-education-icteducation/
END:VEVENT
END:VCALENDAR