BEGIN:VCALENDAR
VERSION:2.0
PRODID:-//wp-events-plugin.com//6.0.1.1//EN
BEGIN:VEVENT
UID:37a2e7b3-edba-476e-8b25-7944944073c4
DTSTART:20261012T114500Z
DTEND:20261013T180000Z
DTSTAMP:20260314T104525Z
SUMMARY:3rd Euro-Global Summit on Biofuels and Bioenergy 2026
DESCRIPTION:C2P Forum is delighted to announce the 3rd Edition of the Euro-Global Summit on Biofuels and Bioenergy\, taking place on October 12–13\, 2026\, in the vibrant city of London\, United Kingdom.\n\nUnder the inspiring theme “Redefining Energy Futures: The Role of Biofuels and Bioenergy in Global Decarbonization\,” this prestigious summit will bring together a distinguished gathering of researchers\, scientists\, engineers\, policymakers\, and industry leaders from across the globe.
LOCATION:Renaissance London Heathrow Hotel\, Renaissance London Heathrow Hotel\, London\, UK\, London\, UK\, TW6 2LA\, London\, United Kingdom
URL:https://eventstopten.com/events/3rd-euro-global-summit-on-biofuels-and-bioenergy-2026/
END:VEVENT
END:VCALENDAR