BEGIN:VCALENDAR
VERSION:2.0
PRODID:-//wp-events-plugin.com//6.0.1.1//EN
BEGIN:VEVENT
UID:55e567f2-7d80-4126-a553-5fec55dd43ed
DTSTART;VALUE=DATE:20261106
DTEND;VALUE=DATE:20261110
DTSTAMP:20260313T213011Z
SUMMARY:3rd Asia Conference on Environmental Economics and Policy (ACEEP 2026)
DESCRIPTION:2026 3rd Asia Conference on Environmental Economics and Policy (ACEEP 2026)\, will be held in Tokyo\, Japan during November 6-9\, 2026 as a workshop of ACESD. It is sponsored by iNehc\, IJESD\, and technically supported by Yokohama National University\, National Institute for Environmental Studies\, Nagasaki University and Japan International Cooperation Agency.
LOCATION:Tokyo\, Tokyo\, Tokyo\, Japan\, Tokyo\, Japan
URL:https://eventstopten.com/events/3rd-asia-conference-on-environmental-economics-and-policy-aceep-2026/
END:VEVENT
END:VCALENDAR