BEGIN:VCALENDAR
VERSION:2.0
PRODID:-//wp-events-plugin.com//6.0.1.1//EN
BEGIN:VEVENT
UID:d6d5903e-15d4-47b5-9855-ac5182016897
DTSTART:20260429T000000Z
DTEND:20260501T000000Z
DTSTAMP:20260313T141551Z
SUMMARY:36th ISTANBUL International Congress on Animal\, Fisheries &amp\; Veterinary Sciences (IAFVS-26) scheduled on April 29-May 1\, 2026 Istanbul (Türkiye)
DESCRIPTION:Call for Papers: IAFVS-26\nFull Articles/ Reviews/ Shorts Papers/ Abstracts are welcomed in the following research fields.\n\nThis combined field covers the biology\, health\, production\, and management of both terrestrial and aquatic animals\, focusing on the human-animal relationship\, food security\, and public health.\n\nHere are the topics and subtopics related to Animal\, Fisheries\, and Veterinary Sciences:\n\n Animal Sciences\nThis focuses on the science and business of producing domestic livestock and companion animals.\n\nAnimal Production and Management\n\nLivestock Systems: Beef\, Dairy\, Swine (Pigs)\, Poultry (Chicken\, Turkey)\, Small Ruminants (Sheep\, Goats).\n\nEquine Science: Breeding\, training\, and care of horses.\n\nCompanion Animals: Nutrition\, behavior\, and welfare of pets (dogs\, cats\, small mammals).\n\nManagement Practices: Housing design\, environmental control\, waste management\, and sustainable farming.\n\nAnimal Physiology and Nutrition\n\nDigestive Systems: Comparative anatomy and function (monogastric vs. ruminant).\n\nReproductive Physiology (Theriogenology): Endocrinology\, artificial insemination (AI)\, in-vitro fertilization (IVF)\, and reproductive technologies.\n\nAnimal Nutrition: Feed formulation\, metabolism\, nutrient requirements\, and the development of alternative proteins (e.g.\, insect-based\, algae-based) for feed.\n\nGrowth and Development: Muscle\, bone\, and fat deposition.\n\nAnimal Genetics and Breeding\n\nQuantitative Genetics: Heritability\, selection indexes\, and genetic improvement programs.\n\nMolecular Genetics: Genomics\, transcriptomics\, and genetic engineering for disease resistance and improved production traits.\n\nLivestock Genomics: Using genetic markers for personalized animal medicine and breeding.\n\nAnimal Behavior and Welfare\n\nEthology: Studying natural behavior\, social structure\, and cognition.\n\nWelfare Assessment: Methods to measure stress\, pain\, and quality of life\, including ethical standards and legislation.\n\nPrecision Livestock Farming (PLF): Using wearable devices (e.g.\, smart collars) and sensors to monitor health\, activity\, and behavior in real-time.\n\nFisheries &amp\; Aquaculture\nThis section deals with the cultivation of aquatic organisms (aquaculture) and the management of wild aquatic populations (fisheries).\n\nAquaculture (Farming)\n\nCulture Systems: Recirculating Aquaculture Systems (RAS)\, pond culture\, cage culture\, and mariculture (saltwater farming).\n\nSpecies Culture: Finfish (Salmon\, Tilapia\, Catfish)\, Shellfish (Oysters\, Shrimp)\, and Aquatic Plants (Seaweed\, Algae).\n\nWater Quality Management: Maintaining optimal parameters (dissolved oxygen\, pH\, salinity\, temperature) and controlling effluent/pollution.\n\nAquatic Animal Health: Disease prevention\, diagnostics\, and treatment in crowded farm environments.\n\nFisheries Science (Wild Stocks)\n\nStock Assessment: Population dynamics\, modeling\, and data collection (catch per unit effort) to determine Maximum Sustainable Yield (MSY).\n\nFisheries Management: Setting regulations\, quotas\, gear restrictions\, and establishing Marine Protected Areas (MPAs).\n\nEcosystem-Based Management (EBM): Managing fishing activities by considering the entire ecosystem\, not just the target species.\n\nSeafood Technology and Sustainability\n\nTraceability and Certification: Auditing supply chains (e.g.\, Marine Stewardship Council - MSC) to verify sustainable practices.\n\nPost-Harvest Technology: Processing\, preservation\, quality control\, and reducing post-harvest losses.\n\nBlue Economy: Economic development strategies focused on sustainable ocean resources.\n\n Veterinary Sciences (Medicine)\nThis covers the diagnosis\, treatment\, and prevention of disease in animals\, spanning pets\, livestock\, and wildlife.\n\nCore Medical Sciences\n\nVeterinary Anatomy and Physiology: Detailed structure and function of animal systems.\n\nVeterinary Pathology: Studying the causes and progression of disease (necropsy\, histopathology).\n\nVeterinary Pharmacology and Toxicology: Drug mechanisms\, dosage\, side effects\, and environmental toxins.\n\nVeterinary Microbiology: Bacteriology\, virology (e.g.\, mRNA vaccines for animal diseases)\, and mycology.\n\nClinical Disciplines\n\nVeterinary Medicine: Internal medicine (small and large animal)\, diagnostics\, and infectious disease control.\n\nVeterinary Surgery and Radiology: Anesthesiology\, specialized soft tissue and orthopedic surgery\, and diagnostic imaging (X-ray\, MRI\, Ultrasound).\n\nVeterinary Dentistry and Ophthalmology: Specialized care for teeth\, gums\, and eyes.\n\nEmergency and Critical Care Medicine (ECCM): Managing acute illness and trauma.\n\nPublic Health and Emerging Fields\n\nVeterinary Epidemiology: The study of disease patterns\, outbreak investigation\, and risk analysis in animal populations.\n\nOne Health: The interdisciplinary collaboration between human\, animal\, and environmental health\, particularly in the context of Zoonotic Diseases (diseases transmissible from animals to humans\, like Avian Influenza or Rabies).\n\nVeterinary Public Health: Food safety\, meat and milk inspection\, and control of animal-borne human diseases.\n\nRegenerative Medicine: Stem cell applications and gene therapy for treating complex injuries and genetic defects in animals.
LOCATION:Istanbul\, Holiday Inn Istanbul City\, (5 Star)\, Istanbul\, Turkey\, 34280\, Turkey
URL:https://eventstopten.com/events/36th-istanbul-international-congress-on-animal-fisheries-veterinary-sciences-iafvs-26-scheduled-on-april-29-may-1-2026-istanbul-turkiye/
END:VEVENT
END:VCALENDAR