BEGIN:VCALENDAR
VERSION:2.0
PRODID:-//wp-events-plugin.com//6.0.1.1//EN
BEGIN:VEVENT
UID:58376fe4-44bb-42fa-b309-58ba8ff25052
DTSTART:20261214T000000Z
DTEND:20261216T000000Z
DTSTAMP:20260425T160021Z
SUMMARY:35th ROME International Congress on Electrical\, Electronics and Computational Intelligence (REECI-26)  Dec. 14-16\, 2026 Rome (Italy)
DESCRIPTION:ENGINEERING\, TECHNOLOGY\, AI\, Automobile\, Bioinformatics\, Biomedical\, Chemical\, Computer\, Computing\, Electrical\, Energy\, Image Processing\, IT\, Manufacturing\, Mechanical\, Metallurgical\, Military\, Mining\, Nanotechnology\, Aviation
LOCATION:Rome\, University of Washington Rome Center\, Rome\, Italy\, 00186\, Italy
URL:https://eventstopten.com/events/35th-rome-international-congress-on-electrical-electronics-and-computational-intelligence-reeci-26-dec-14-16-2026-rome-italy/
END:VEVENT
END:VCALENDAR