BEGIN:VCALENDAR
VERSION:2.0
PRODID:-//wp-events-plugin.com//6.0.1.1//EN
BEGIN:VEVENT
UID:8a27bfd4-5655-4323-aaeb-293487826329
DTSTART:20261214T000000Z
DTEND:20261216T000000Z
DTSTAMP:20260425T160025Z
SUMMARY:35th ROME International Conference on Animal\, Fisheries and Veterinary Sciences (RAFVS-26) Dec. 14-16\, 2026 Rome (Italy)
DESCRIPTION:Agriculture\, Aquaculture\, Biodiversity\, Biology\, Biotechnology\, Botany\, Chemistry\, Cellular &amp\; Molecular Biology\, Ecology\, Environment\, Food\, GIS\, Genetics\, Microbiology\, Oceanography\, Physics\, Soil\, Waste Management\, Water
LOCATION:Rome\, University of Washington Rome Center\, Rome\, Italy\, 00186\, Italy
URL:https://eventstopten.com/events/35th-rome-international-conference-on-animal-fisheries-and-veterinary-sciences-rafvs-26-dec-14-16-2026-rome-italy/
END:VEVENT
END:VCALENDAR