BEGIN:VCALENDAR
VERSION:2.0
PRODID:-//wp-events-plugin.com//6.0.1.1//EN
BEGIN:VEVENT
UID:611c8948-b894-4d77-9b81-dd11f4a23b76
DTSTART:20260624T000000Z
DTEND:20260626T000000Z
DTSTAMP:20260314T124609Z
SUMMARY:35th PARIS International Conference on Fashion Technology &amp\; Innovation (PICFTI-26) scheduled on June 24-26\, 2026 Paris (France)
DESCRIPTION:SOCIAL SCIENCES\, HUMANITIES\, History\, Arts\, English\, Interdisciplinary Studies\, Islamic Studies\, Language\, Linguistics\, Literature\, Local Government\, Multidisciplinary Studies\, Museums\, Music\, Philosophy\, Poetry\, Politics\, Psychology\, Religious Studies\, Social Sciences\, Sociology\, Women's history
LOCATION:Paris\, Paris\, Paris\, France\, 94800\, France
URL:https://eventstopten.com/events/35th-paris-international-conference-on-fashion-technology-innovation-picfti-26-scheduled-on-june-24-26-2026-paris-france/
END:VEVENT
END:VCALENDAR