BEGIN:VCALENDAR
VERSION:2.0
PRODID:-//wp-events-plugin.com//6.0.1.1//EN
BEGIN:VEVENT
UID:592f0be6-905a-4ab4-bd9a-a75c703419f1
DTSTART:20260427T000000Z
DTEND:20260429T000000Z
DTSTAMP:20260313T093026Z
SUMMARY:35th HELSINKI World Congress on Mining\, Material and Metallurgical Engineering (WCM3E-26) April 27-29\, 2026 Helsinki (Finland)
DESCRIPTION:Call for papers/Topics\nTopics of interest for submission include any topics related to:\n\nMining Engineering\nThis discipline focuses on the safe\, efficient\, and responsible extraction of minerals and resources from the Earth.\n\nMineral Exploration and Evaluation:\n\nGeology and Mineralogy: Understanding rock types\, ore bodies\, and mineral deposits.\n\nGeostatistics: Applying statistical methods to estimate mineral reserves.\n\nExploration Techniques: Using geophysical (seismic\, magnetic) and geochemical methods.\n\nMine Design and Planning:\n\nSurface Mining Methods: Open-pit\, strip mining\, and quarrying.\n\n* **Underground Mining Methods:** Room and pillar\, cut-and-fill\, longwall\, and block caving.\n* **Mine Ventilation and Airflow Control:** Ensuring safe air quality and temperature.\n* **Rock Mechanics and Ground Control:** Analyzing rock stress and designing stable slopes and tunnels.\nMining Operations:\n\nDrilling and Blasting: Methods for breaking up rock.\n\nExcavation and Loading: Equipment like shovels\, loaders\, and draglines.\n\nHaulage and Transportation: Trucks\, conveyors\, and rail systems.\n\nMine Safety and Health: Hazard identification\, risk assessment\, and regulations.\n\nSustainability and Environment:\n\nMine Waste Management: Handling and disposal of tailings and waste rock.\n\nMine Reclamation and Closure: Restoring the land after mining operations cease.\n\nAcid Mine Drainage (AMD) Mitigation: Preventing and treating acidic water discharge.\n\nExtractive (Chemical) Metallurgy and Mineral Processing\nThis area deals with recovering valuable minerals from the ore and refining them into a pure metal or usable material.\n\nMineral Processing (Mineral Dressing)\nComminution: Crushing\, grinding\, and milling to reduce particle size.\n\nClassification and Screening: Separating particles by size.\n\nSeparation Techniques:\n\nFlotation: Chemically separating valuable minerals from waste (gangue).\n\nGravity Separation: Using density differences (e.g.\, jigs\, tables).\n\nMagnetic and Electrostatic Separation: Using electrical or magnetic properties.\n\nDewatering: Thickening\, filtering\, and drying to remove water.\n\nExtractive Metallurgy\nPyrometallurgy: Processes involving high temperatures.\n\nRoasting and Calcination: Heating to cause chemical change.\n\nSmelting: Melting the concentrate to separate metal from slag (waste).\n\nHydrometallurgy: Processes involving aqueous (water-based) solutions.\n\nLeaching: Dissolving the metal out of the ore using chemical solutions (e.g.\, cyanide or acid).\n\nSolvent Extraction and Ion Exchange: Purifying the dissolved metal solution.\n\nPrecipitation and Electrowinning: Recovering the metal from the solution.\n\nElectrometallurgy: Processes using electrical energy\, typically for refining.\n\nElectrorefining: Using electrolysis to produce high-purity metals.\n\nElectrowinning: Recovering metals from leach solutions.\n\nMetallurgical Thermodynamics and Kinetics: The study of energy and rate of chemical reactions in metal production.\n\nPhysical and Mechanical Metallurgy &amp\; Materials Engineering\nThis domain focuses on the structure\, properties\, manufacturing\, and performance of materials\, particularly metals and alloys.\n\nMaterials Structure and Characterization:\n\nCrystallography: Study of crystal structures (BCC\, FCC\, HCP).\n\nMicrostructure Analysis: Using techniques like Scanning Electron Microscopy (SEM) and X-ray Diffraction (XRD).\n\nPhase Transformations: Changes in a material's structure with temperature or pressure (e.g.\, in steel).\n\nMechanical Properties:\n\nStress\, Strain\, and Elasticity: Analyzing material response to force.\n\nHardness\, Toughness\, and Ductility: Key mechanical measures.\n\nFracture and Fatigue: Understanding how materials fail under static or cyclic loading.\n\nCreep: Deformation under constant stress at high temperatures.\n\nMaterial Processing and Manufacturing:\n\nCasting: Pouring molten metal into a mold (e.g.\, sand casting\, die casting).\n\nMetalworking/Forming: Shaping solid metal (e.g.\, forging\, rolling\, extrusion).\n\nHeat Treatment: Controlled heating and cooling to change mechanical properties (e.g.\, annealing\, quenching\, tempering).\n\nWelding and Joining: Techniques to permanently connect materials.\n\nPowder Metallurgy: Manufacturing parts from fine metal powders.\n\nAdditive Manufacturing (3D Printing): Building parts layer by layer\, often with metal alloys.\n\nAdvanced Materials and Applications:\n\nAlloy Development: Designing new combinations of elements for specific properties (e.g.\, high-strength steel\, aerospace aluminum alloys).\n\nCeramics and Glasses: Non-metallic inorganic materials.\n\nPolymers and Composites: Materials combining two or more distinct phases (e.g.\, carbon fiber reinforced plastics).\n\nBiomaterials: Materials used in medical applications.\n\nElectronic and Magnetic Materials: Semiconductors\, superconductors\, etc.\n\nMaterials Degradation:\n\nCorrosion Engineering: Preventing the deterioration of materials due to reaction with their environment (e.g.\, rust).\n\nCross-Cutting Topics\nThese topics span across all three main areas and address modern challenges.\n\nSustainability and Recycling:\n\nUrban Mining: Recovering metals from electronic waste (e-waste).\n\nLife Cycle Assessment (LCA): Evaluating the environmental impact from resource extraction to disposal.\n\nAutomation and Digitalization:\n\nIndustry 4.0 in Mining: Implementing sensors\, data analytics\, and Artificial Intelligence (AI) for optimization.\n\nAutonomous Mining Systems: Remotely or automatically operated equipment.\n\nCritical and Strategic Minerals:\n\nFocus on Rare Earth Elements (REEs)\, lithium\, and cobalt\, essential for clean energy and high-tech applications.
LOCATION:Helsinki\, Holiday Inn Helsinki - Vantaa Airport\, Helsinki\, Finland\, 01510\, Finland
URL:https://eventstopten.com/events/35th-helsinki-world-congress-on-mining-material-and-metallurgical-engineering-wcm3e-26-april-27-29-2026-helsinki-finland/
END:VEVENT
END:VCALENDAR