BEGIN:VCALENDAR
VERSION:2.0
PRODID:-//wp-events-plugin.com//6.0.1.1//EN
BEGIN:VEVENT
UID:02fe0a25-4880-4642-83b5-9b88aa975e55
DTSTART:20260429T000000Z
DTEND:20260501T000000Z
DTSTAMP:20260313T204508Z
SUMMARY:32nd ISTANBUL World Congress on Disaster Management\, Globalization &amp\; Sustainable Development (DMGSD-26) April 29-May 1\, 2026 Istanbul (Türkiye)
DESCRIPTION:SOCIAL SCIENCES\, HUMANITIES\, History\, Arts\, English\, Interdisciplinary Studies\, Islamic Studies\, Language\, Linguistics\, Literature\, Local Government\, Multidisciplinary\nStudies\, Museums\, Music\, Philosophy\, Poetry\, Politics\, Psychology\, Religious Studies\, Social Sciences\, Sociology\, Women's history
LOCATION:Istanbul\, Holiday Inn Istanbul City\, (5 Star)\, Istanbul\, Turkey\, 34280\, Turkey
URL:https://eventstopten.com/events/32nd-istanbul-world-congress-on-disaster-management-globalization-sustainable-development-dmgsd-26-april-29-may-1-2026-istanbul-turkiye/
END:VEVENT
END:VCALENDAR