BEGIN:VCALENDAR
VERSION:2.0
PRODID:-//wp-events-plugin.com//6.0.1.1//EN
BEGIN:VEVENT
UID:2c792009-5f87-45e2-98c5-e02a67d4b6b8
DTSTART:20261214T000000Z
DTEND:20261216T000000Z
DTSTAMP:20260425T160023Z
SUMMARY:30th ROME International Conference on Advanced Manufacturing &amp\; System Optimization (RAMSO-26) Dec. 14-16\, 2026 Rome (Italy)
DESCRIPTION:ENGINEERING\, TECHNOLOGY\, AI\, Automobile\, Bioinformatics\, Biomedical\, Chemical\, Computer\, Computing\, Electrical\, Energy\, Image Processing\, IT\, Manufacturing\, Mechanical\, Metallurgical\, Military\, Mining\, Nanotechnology\, Aviation
LOCATION:Rome\, University of Washington Rome Center\, Rome\, Italy\, 34280\, Italy
URL:https://eventstopten.com/events/30th-rome-international-conference-on-advanced-manufacturing-system-optimization-ramso-26-dec-14-16-2026-rome-italy/
END:VEVENT
END:VCALENDAR