BEGIN:VCALENDAR
VERSION:2.0
PRODID:-//wp-events-plugin.com//6.0.1.1//EN
BEGIN:VEVENT
UID:0ea28a89-433e-419a-a2b2-6bbf7ff41e3a
DTSTART;VALUE=DATE:20261106
DTEND;VALUE=DATE:20261108
DTSTAMP:20260313T161605Z
SUMMARY:2nd International Conference on Neuropsychiatry
DESCRIPTION:We are delighted to welcome you to the 2nd International Conference on Neuropsychiatry\, scheduled for November 06-07\, 2026\, in Dubai\, UAE. This prestigious event will bring together leading experts\, researchers\, and clinicians in the field of neuropsychiatry to explore the intricate connection between the brain and mind.\n\nTheme: Exploring the Frontiers of Brain Science and Mental Health  in Neuropsychiatry
LOCATION:City Seasons Dubai Hotel\, 2 27th St - Port Saeed \, Deira\, Dubai\, 000000\, Asia\, United Arab Emirates
URL:https://eventstopten.com/events/2nd-international-conference-on-neuropsychiatry/
END:VEVENT
END:VCALENDAR