BEGIN:VCALENDAR
VERSION:2.0
PRODID:-//wp-events-plugin.com//6.0.1.1//EN
BEGIN:VEVENT
UID:1b3b3e93-700c-471a-8592-21009c5de3cf
DTSTART:20260817T090000Z
DTEND:20260818T170000Z
DTSTAMP:20260313T210016Z
SUMMARY:2nd International Conference on Infectious Diseases &amp\; Immunology
DESCRIPTION:The 2nd International Conference on Infectious Diseases &amp\; Immunology\, organized by Inovine Scientific Meetings\, will be held on August 17–18\, 2026\, in Orlando\, Florida\, USA\, with the option for both in-person and virtual participation. Following the strong reception of its first edition\, the 2nd International Conference on Infectious Diseases &amp\; Immunology returns to bring together an inclusive community of scientists\, clinicians\, public health experts and industry pioneers.
LOCATION:Orlando\, FLORIDA\, USA\, Orlando\, Florida\, USA\, Orlando\, FL\, 32789\, FL\, United States
URL:https://eventstopten.com/events/2nd-international-conference-on-infectious-diseases-immunology/
END:VEVENT
END:VCALENDAR