BEGIN:VCALENDAR
VERSION:2.0
PRODID:-//wp-events-plugin.com//6.0.1.1//EN
BEGIN:VEVENT
UID:672b93ef-850b-4dae-bed0-7b37c2fc26d9
DTSTART:20270322T090000Z
DTEND:20270323T050000Z
DTSTAMP:20260424T080031Z
SUMMARY:2nd International Conference on Civil\, Infrastructure and Smart Cities
DESCRIPTION:Building on the success of our previous Infrastructure and Construction Engineering Conference\, the 2nd International Conference on Civil\, Infrastructure and Smart Cities (INFRASMART2027) will take place on March 22–23\, 2027 in Zurich\, Switzerland. The conference aims to bring together researchers\, academicians\, industry professionals\, and policymakers from around the world to share cutting-edge innovations and foster international collaboration in infrastructure and urban development.\n\nINFRASMART2027 provides a high-impact platform to explore the latest advancements in civil engineering\, sustainable infrastructure\, smart city technologies\, digital transformation\, and resilient urban systems. The program will feature keynote lectures\, plenary sessions\, oral and poster presentations\, panel discussions\, and dedicated networking opportunities\, enabling participants to exchange knowledge\, present research\, and build meaningful global collaborations.\n\nThis edition is designed to strengthen global visibility\, enhance scientific credibility\, and promote cross-disciplinary partnerships\, making it an essential event for researchers\, engineers\, urban planners\, and industry leaders. Special sessions will be dedicated to early-career researchers and young professionals\, offering awards\, mentorship opportunities\, and a global platform to showcase their work.\n\nJoin us in Zurich for INFRASMART2027 and be part of a dynamic gathering where innovation\, sustainability\, and smart urban development come together to shape the future of infrastructure.
LOCATION:Zurich\, Switzerland\, Zurich\, Switzerland\, Zurich\, SC\, 8099\, SC\, Switzerland
URL:https://eventstopten.com/events/2nd-international-conference-on-civil-infrastructure-and-smart-cities/
END:VEVENT
END:VCALENDAR