BEGIN:VCALENDAR
VERSION:2.0
PRODID:-//wp-events-plugin.com//6.0.1.1//EN
BEGIN:VEVENT
UID:680f2542-1a11-45cc-8f15-ffb6f696ce99
DTSTART:20261019T090000Z
DTEND:20261020T180000Z
DTSTAMP:20260314T203051Z
SUMMARY:2nd International Conference on Biopolymers and Polymer Science
DESCRIPTION:We are delighted to announce the 2nd International Conference on Biopolymers and Polymer Science (BIOPOLYMERS-2026)\, which will be held from October 19-20\, 2026 in the beautiful city of Venice\, Italy.
LOCATION:Venice\, Italy\, Venice\, Italy\, Italy\, Venice\,\, 30100\, Venice\, Italy
URL:https://eventstopten.com/events/2nd-international-conference-on-biopolymers-and-polymer-science/
END:VEVENT
END:VCALENDAR