BEGIN:VCALENDAR
VERSION:2.0
PRODID:-//wp-events-plugin.com//6.0.1.1//EN
BEGIN:VEVENT
UID:c0fc6d8c-14f4-42b4-b19a-487e6b40967d
DTSTART:20260720T113000Z
DTEND:20260721T180000Z
DTSTAMP:20260313T090030Z
SUMMARY:2nd Global Summit on Materials Science and Nanoscience (MATERIALS2026)
DESCRIPTION:Research Connects cordially invites you to 2nd Global Summit on Materials Science and Nanoscience which is going to be held in Prague\, Czech Republic during July 20-21\, 2026.\n\nMaterials Science and Engineering\, Ceramics and Composite Materials Polymers Science and Technology\, Advanced Nanomaterials\, Mining and Metallurgy\, Carbon Nanostructures and 2D Materials\, Computational Modeling of Metals &amp\; Materials\, Smart Materials and Applications\, Metamaterials\, Energy Materials\, Advanced Materials Synthesis and Characterization\, Nanomaterials and Nanotechnology\, Thin Films and Coatings\, Nanomedicine and Nanobiotechnology\, Nanomaterials for Energy and Environment\, Nanofabrication and Nanolithography\, Biomaterials and Biomedical Engineering\, Hydrogen Energy and Fuel Cell Technology\, Magnetic Materials\, Crystallography\, Semiconductors\, Advanced Materials and Nanotechnology\, Emerging Areas of Materials Science\, Magnetism and Multiferroism\, Graphene and Its Technology.
LOCATION:\, \, 
URL:https://eventstopten.com/events/2nd-global-summit-on-materials-science-and-nanoscience-materials2026/
END:VEVENT
END:VCALENDAR