BEGIN:VCALENDAR
VERSION:2.0
PRODID:-//wp-events-plugin.com//6.0.1.1//EN
BEGIN:VEVENT
UID:84a8b824-ec18-423a-9047-af13d68b51b1
DTSTART;VALUE=DATE:20260717
DTEND;VALUE=DATE:20260720
DTSTAMP:20260313T084550Z
SUMMARY:2nd Edition of the Diabetes and Endocrinology World Conference DEWC 2026
DESCRIPTION:2nd Edition of the Diabetes and Endocrinology World Conference (DEWC 2026)\nJuly 17–19\, 2026 | Singapore &amp\; Virtual\n\nPrecision Global Conferences is delighted to invite you to the 2nd Edition of the Diabetes and Endocrinology World Conference (DEWC 2026)\, to be held from July 17 to 19\, 2026\, in Singapore and virtually. This hybrid event is poised to bring together the brightest minds in diabetes research\, endocrinology\, metabolic science\, and clinical care to exchange knowledge\, foster innovation\, and explore collaborative opportunities that will shape the future of patient-centered healthcare.
LOCATION:\, \, 
URL:https://eventstopten.com/events/2nd-edition-of-the-diabetes-and-endocrinology-world-conference-dewc-2026/
END:VEVENT
END:VCALENDAR