BEGIN:VCALENDAR
VERSION:2.0
PRODID:-//wp-events-plugin.com//6.0.1.1//EN
BEGIN:VEVENT
UID:8b24950c-f019-4098-8f29-fab873c286a4
DTSTART:20260708T080000Z
DTEND:20260708T163000Z
DTSTAMP:20260423T160033Z
SUMMARY:28th Edition Connected Banking Summit – Southern Africa 2026
DESCRIPTION:28th Edition Connected Banking Summit – Southern Africa 2026Silver Jubilee Edition | Johannesburg | 8 July 2026\nICSA announces the 28th Edition Connected Banking Summit on 8 July 2026 in Johannesburg\, celebrating 25 years of advancing digital banking in the region. The event\, themed “Advancing Intelligent Banking\, Security\, and Enterprise Digital Modernization\,” will gather leaders from banking\, fintech\, government\, and technology to discuss digital transformation\, AI\, cybersecurity\, cloud\, and financial inclusion. The summit features keynotes\, expert panels\, technology showcases\, and executive networking.\nRegistration: info@intercsa.com | +44 20 3808 8625
LOCATION:The Maslow Hotel Sandton\,  Rivonia Rd\, Grayston Dr\, Gauteng\, Sandton\, Johannesburg\, 2146\, South Africa\, India
URL:https://eventstopten.com/events/28th-edition-connected-banking-summit-southern-africa-2026/
END:VEVENT
END:VCALENDAR