BEGIN:VCALENDAR
VERSION:2.0
PRODID:-//wp-events-plugin.com//6.0.1.1//EN
BEGIN:VEVENT
UID:cd268206-9dc4-427e-b3c0-6204351eda1b
DTSTART:20260429T000000Z
DTEND:20260501T000000Z
DTSTAMP:20260313T203009Z
SUMMARY:26th ISTANBUL World Conference on Genetics\, Cellular and Molecular Biology (WGCMB-26) scheduled on April 29-May 1\, 2026 Istanbul (Türkiye)
DESCRIPTION:Agriculture\, Aquaculture\, Biodiversity\, Biology\, Biotechnology\, Botany\, Chemistry\, Cellular &amp\; Molecular Biology\, Ecology\, Environment\, Food\, GIS\, Genetics\,\nMicrobiology\, Oceanography\, Physics\, Soil\, Waste Management\, Water
LOCATION:Istanbul\, Holiday Inn Istanbul City\, (5 Star)\, Istanbul\, Turkey\, 34280\, Turkey
URL:https://eventstopten.com/events/26th-istanbul-world-conference-on-genetics-cellular-and-molecular-biology-wgcmb-26-scheduled-on-april-29-may-1-2026-istanbul-turkiye/
END:VEVENT
END:VCALENDAR