BEGIN:VCALENDAR
VERSION:2.0
PRODID:-//wp-events-plugin.com//6.0.1.1//EN
BEGIN:VEVENT
UID:4f8a0b9b-35a9-496b-9581-c53fb4cda982
DTSTART;VALUE=DATE:20261016
DTEND;VALUE=DATE:20261019
DTSTAMP:20260313T084528Z
SUMMARY:26th International Conference on Communication Technology (IEEE ICCT 2026)
DESCRIPTION:You are welcomed to 2026 IEEE 26th International Conference on Communication Technology in Zhuhai\, China during October 16-18\, 2026. It's co-sponsored by IEEE Beijing Section\, IEEE China Council\, Jinan University\, China\, and University of Macau\, China. This year's theme is "Intelligent Communications Empowering New Quality Productive Forces" and promises to be an exciting event\, bringing together researchers\, academics\, industry professionals\, and students from all over the world to share their latest research findings\, ideas\, and innovations.
LOCATION:\, \, 
URL:https://eventstopten.com/events/26th-international-conference-on-communication-technology-ieee-icct-2026/
END:VEVENT
END:VCALENDAR