BEGIN:VCALENDAR
VERSION:2.0
PRODID:-//wp-events-plugin.com//6.0.1.1//EN
BEGIN:VEVENT
UID:d7dd1479-f200-4887-899f-2298a0619a42
DTSTART:20260513T000000Z
DTEND:20260515T000000Z
DTSTAMP:20260313T230009Z
SUMMARY:21st LISBON International Conference on Automobile &amp\; Aeronautical Engineering (ICA2E-26) May 13-15\, 2026 Lisbon (Portugal)
DESCRIPTION:ENGINEERING\, TECHNOLOGY\, AI\, Automobile\, Bioinformatics\, Biomedical\, Chemical\, Computer\, Computing\, Electrical\, Energy\, Image Processing\, IT\, Manufacturing\, Mechanical\, Metallurgical\, Military\, Mining\, Nanotechnology\, Aviation\, Architecture\, Building Materials\, Civil Engineering\, Landscape\, Pollution\, Transportation
LOCATION:Lisbon\, Faculdade de Ciências Sociais e Humanas – NOVA FCSH\, Lisbon\, Portugal\, 1069-061\, Portugal
URL:https://eventstopten.com/events/21st-lisbon-international-conference-on-automobile-aeronautical-engineering-ica2e-26-may-13-15-2026-lisbon-portugal/
END:VEVENT
END:VCALENDAR