BEGIN:VCALENDAR
VERSION:2.0
PRODID:-//wp-events-plugin.com//6.0.1.1//EN
BEGIN:VEVENT
UID:cde998a6-d036-4657-a608-67988a007e7b
DTSTART:20260429T000000Z
DTEND:20260501T000000Z
DTSTAMP:20260313T201600Z
SUMMARY:20th ISTANBUL International Conference on Advances in “Mechanical  &amp\; Manufacturing Engineering” (IAMME-26) scheduled on April 29-May 1\, 2026 Istanbul (Türkiye)
DESCRIPTION:Architecture\, Building Materials\, Civil Engineering\, Landscape\, Pollution\, Transportation
LOCATION:Istanbul\, Holiday Inn Istanbul City\, (5 Star)\, Istanbul\, Turkey\, 34280\, Turkey
URL:https://eventstopten.com/events/20th-istanbul-international-conference-on-advances-in-mechanical-manufacturing-engineering-iamme-26-scheduled-on-april-29-may-1-2026-istanbul-turkiye/
END:VEVENT
END:VCALENDAR