BEGIN:VCALENDAR
VERSION:2.0
PRODID:-//wp-events-plugin.com//6.0.1.1//EN
BEGIN:VEVENT
UID:1f0c21d4-3ee5-484b-83e2-ec8ca361cc4f
DTSTART;VALUE=DATE:20260615
DTEND;VALUE=DATE:20260617
DTSTAMP:20260421T160115Z
SUMMARY:20th International Conference on European Immunology
DESCRIPTION:The 20th International Conference on European Immunology\, scheduled for June 15–16\, 2026 in Paris\, France\, will bring together leading scientists\, researchers\, and clinicians to discuss breakthroughs in immune engineering\, precision modulation\, cellular reprogramming\, and next-generation immunotherapies\, fostering innovation and collaboration.\n\nJoin the 20th International Conference on European Immunology on June 15–16\, 2026 in Paris\, France. Explore innovations in immune engineering\, precision immunology\, cellular reprogramming\, and next-generation immunotherapies with global experts.
LOCATION:\, \, 
URL:https://eventstopten.com/events/20th-international-conference-on-european-immunology/
END:VEVENT
END:VCALENDAR