BEGIN:VCALENDAR
VERSION:2.0
PRODID:-//wp-events-plugin.com//6.0.1.1//EN
BEGIN:VEVENT
UID:7f88c442-57af-4340-a5c3-acd4fb34c921
DTSTART;VALUE=DATE:20270109
DTEND;VALUE=DATE:20270112
DTSTAMP:20260424T000118Z
SUMMARY:2027 Asia Artificial Intelligence and Education Conference (AAIE 2027)
DESCRIPTION:2027 Asia Artificial Intelligence and Education Conference (AAIE 2027) will be held in Tokyo\, Japan during January 9-11\, 2027\,  which is co-sponsored by Kogakuin University\, Japan. This year we are seeking innovative\, high-quality and potentially interdisciplinary proposals for technical sessions that complement the regular program of the conference.
LOCATION:Kogakuin University\, Japan\, 1-24-2 Nishi-Shinjuku\, Shinjuku-ku\, Tokyo 163-8677\, Tokyo\, Japan\, 163-8677\, Japan
URL:https://eventstopten.com/events/2027-asia-artificial-intelligence-and-education-conference-aaie-2027/
END:VEVENT
END:VCALENDAR