BEGIN:VCALENDAR
VERSION:2.0
PRODID:-//wp-events-plugin.com//6.0.1.1//EN
BEGIN:VEVENT
UID:aedd23c0-98b7-4d2f-8c46-6b5e15b4c8e3
DTSTART;VALUE=DATE:20261022
DTEND;VALUE=DATE:20261025
DTSTAMP:20260313T081317Z
SUMMARY:2026 International Conference on Structural and Civil Engineering(ICSCE 2026)
DESCRIPTION:ICSCE 2026 - 2026 International Conference on Structural and Civil Engineering is organized to be held in A Coruña\, Spain during October 22-24\, 2026. ICSCE will focus on green architecture\, intelligent architecture\, design of practicality and artistic. The conference aims to provide opportunities for the delegates to exchange new ideas and application experiences face to face\, to establish business or research relations and to find global partners for future collaboration.
LOCATION:University of A Coruña - Elviña Campus\, Rúa da Maestranza 9\, 15001 A Coruña\, A Coruña\, Spain\, 15001\, Spain
URL:https://eventstopten.com/events/2026-international-conference-on-structural-and-civil-engineeringicsce-2026/
END:VEVENT
END:VCALENDAR