BEGIN:VCALENDAR
VERSION:2.0
PRODID:-//wp-events-plugin.com//6.0.1.1//EN
BEGIN:VEVENT
UID:80158025-acf6-4830-ac86-3b526fb302cf
DTSTART:20260921T090000Z
DTEND:20260923T180000Z
DTSTAMP:20260313T104546Z
SUMMARY:2ⁿᵈ Edition of the Cancer R&amp\;D World Conference 2026
DESCRIPTION:Theme: Advancing Precision Oncology Through Biomarker-Driven Drug Development and Innovative Clinical Trial Design.\nWelcome to the 2nd Edition of the Cancer Research and Development World Conference (CRDWC 2026)\, to be held from September 21-23\, 2026\, in Miami\, Florida\, USA.\n\nThis conference promises to be a landmark event\, showcasing the latest advancements\, cutting-edge research\, and transformative therapies in cancer research and development. Renowned global speakers will share their insights\, present groundbreaking findings\, and discuss innovative approaches to addressing the challenges of cancer care.
LOCATION:Hilton Garden Inn Miami Dolphin Mall\, 1695 NW 111th Avenue\, Sweetwater Miami\, FL 33172\, USA\, Miami\, USA\, 33172\, United States
URL:https://eventstopten.com/events/2%e2%81%bf%e1%b5%88-edition-of-the-cancer-rd-world-conference-2026/
END:VEVENT
END:VCALENDAR