BEGIN:VCALENDAR
VERSION:2.0
PRODID:-//wp-events-plugin.com//6.0.1.1//EN
BEGIN:VEVENT
UID:775ec7a3-8513-4a02-a52c-c993e0c28a52
DTSTART;VALUE=DATE:20270115
DTEND;VALUE=DATE:20270118
DTSTAMP:20260424T000118Z
SUMMARY:19th International Conference on Computer Research and Development (ICCRD 2027)
DESCRIPTION:We are delighted to announce that 2027 19th International Conference on Computer Research and Development (ICCRD) will take place in Singapore from 15 to 17\, January\, 2027. This year's conference is proudly sponsored by Sensors and Systems Society of Singapore and University of North Dakota\, USA\, technical supported by Leeds Trinity University\, UK and Zhejiang University-University of Illinois at Urbana-Champaign Institute\, China.
LOCATION:Singapore\, Singapore\, Singapore\, Singapore\, Singapore\, Singapore
URL:https://eventstopten.com/events/19th-international-conference-on-computer-research-and-development-iccrd-2027/
END:VEVENT
END:VCALENDAR