BEGIN:VCALENDAR
VERSION:2.0
PRODID:-//wp-events-plugin.com//6.0.1.1//EN
BEGIN:VEVENT
UID:daf3da80-ac36-4e03-8572-f84528e1b67c
DTSTART;VALUE=DATE:20260821
DTEND;VALUE=DATE:20260824
DTSTAMP:20260313T074554Z
SUMMARY:19th International Conference on Advanced Computer Theory and Engineering (ICACTE 2026)
DESCRIPTION:The 19th International Conference on Advanced Computer Theory and Engineering (ICACTE 2026) is scheduled to take place in Hangzhou\, China during August 21-23\, 2026. Since its inception in 2008\, ICACTE has been held in various locations across the globe\, including Germany\, Singapore\, South Korea\, and China. Each edition attracts participants from all over the world\, providing them with an opportunity to collaborate and network.
LOCATION:\, \, 
URL:https://eventstopten.com/events/19th-international-conference-on-advanced-computer-theory-and-engineering-icacte-2026/
END:VEVENT
END:VCALENDAR