BEGIN:VCALENDAR
VERSION:2.0
PRODID:-//wp-events-plugin.com//6.0.1.1//EN
BEGIN:VEVENT
UID:d92cfb1f-b6c7-4b7d-8cb2-d43de7fc4187
DTSTART;VALUE=DATE:20261023
DTEND;VALUE=DATE:20261027
DTSTAMP:20260313T121522Z
SUMMARY:18th International Conference on Signal Processing Systems (ICSPS 2026)
DESCRIPTION:2026 the 18th International Conference on Signal Processing Systems (ICSPS) will be held in Xiamen\, China during October 23-26\, 2026. It is sponsored by Xiamen University\, China\, hosted by Key Laboratory of Underwater Acoustic Communication and Marine Information Technology Ministry of Education\, Xiamen University\, China\, assisted by National Key Laboratory on Blind Signal Processing\, China\; Jiangsu University of Science and Technology\, China\; Southwest Jiaotong University\, China and Biomedical Measurement Branch of Chinese Society of Biomedical Engineering (CSBME)\, China.
LOCATION:\, \, 
URL:https://eventstopten.com/events/18th-international-conference-on-signal-processing-systems-icsps-2026/
END:VEVENT
END:VCALENDAR