BEGIN:VCALENDAR
VERSION:2.0
PRODID:-//wp-events-plugin.com//6.0.1.1//EN
BEGIN:VEVENT
UID:c00e6cc3-2223-4ad5-819f-1f02573760cf
DTSTART;VALUE=DATE:20260920
DTEND;VALUE=DATE:20260924
DTSTAMP:20260313T214510Z
SUMMARY:18th International Conference on Education Technology and Computers (ICETC 2026)
DESCRIPTION:We are pleased to invite you to attend 2026 the 18th International Conference on Education Technology and Computers (ICETC)\, which will be held in Amsterdam\, The Netherlandsduring September 20-23\, 2026. Welcome to ICETC 2026!
LOCATION:\, \, 
URL:https://eventstopten.com/events/18th-international-conference-on-education-technology-and-computers-icetc-2026/
END:VEVENT
END:VCALENDAR