BEGIN:VCALENDAR
VERSION:2.0
PRODID:-//wp-events-plugin.com//6.0.1.1//EN
BEGIN:VEVENT
UID:179f98f7-36f1-4db0-b805-43032a59f5a1
DTSTART;VALUE=DATE:20260916
DTEND;VALUE=DATE:20260919
DTSTAMP:20260313T120048Z
SUMMARY:17th International Conference on Distance Learning and Education (ICDLE 2026)
DESCRIPTION:Since founded in 2010\, the International Conference on Distance Learning and Education (ICDLE) has been successfully held for 15 editions in Spain\, Japan\, Singapore and other countries. It was held at Nanyang Technological University\, University of Barcelona\, Tokyo Institute of Technology and other world-renowned universities.\n\nThe 17th International Conference on Distance Learning and Education (ICDLE 2026) will be held in Barcelona\, Spain during September 16-18\, 2026\, 2026.
LOCATION:Mundet Campus\, University of Barcelona\, Pg Vall d'Hebron\, 173\, Montbau\, Horta-Guinardó\, Barcelona\, Spain\, Barcelona\, Spain\, 173\, Spain
URL:https://eventstopten.com/events/17th-international-conference-on-distance-learning-and-education-icdle-2026/
END:VEVENT
END:VCALENDAR