BEGIN:VCALENDAR
VERSION:2.0
PRODID:-//wp-events-plugin.com//6.0.1.1//EN
BEGIN:VEVENT
UID:36384fa0-e5b3-41d9-ab60-b67b85663f71
DTSTART:20260620T100000Z
DTEND:20260621T180000Z
DTSTAMP:20260423T000036Z
SUMMARY:15th International Conference on Soft Computing\, Artificial Intelligence and Applications (SAI 2026)
DESCRIPTION:15th International Conference on Soft Computing\, Artificial Intelligence and Applications (SAI 2026)\nwill provide an excellent international forum for sharing knowledge and results in theory\,\nmethodology and applications of Artificial Intelligence\, Soft Computing. The conference looks for\nsignificant contributions to all major fields of the Artificial Intelligence\, Soft Computing in\ntheoretical and practical aspects. The aim of the conference is to provide a platform to the\nresearchers and practitioners from both academia as well as industry to meet and share cutting-edge\ndevelopment in the field.
LOCATION:Sydney\, Australia\, Sydney\, Australia\, Sydney\, Australia\, Sydney\, Australia\, 123456789\, Australia
URL:https://eventstopten.com/events/15th-international-conference-on-soft-computing-artificial-intelligence-and-applications-sai-2026/
END:VEVENT
END:VCALENDAR